BEGIN:VCALENDAR
VERSION:2.0
PRODID:-//Le Goût du Vin - ECPv6.15.16//NONSGML v1.0//EN
CALSCALE:GREGORIAN
METHOD:PUBLISH
X-WR-CALNAME:Le Goût du Vin
X-ORIGINAL-URL:https://www.legoutduvin56.fr
X-WR-CALDESC:Évènements pour Le Goût du Vin
REFRESH-INTERVAL;VALUE=DURATION:PT1H
X-Robots-Tag:noindex
X-PUBLISHED-TTL:PT1H
BEGIN:VTIMEZONE
TZID:Europe/Paris
BEGIN:DAYLIGHT
TZOFFSETFROM:+0100
TZOFFSETTO:+0200
TZNAME:CEST
DTSTART:20250330T010000
END:DAYLIGHT
BEGIN:STANDARD
TZOFFSETFROM:+0200
TZOFFSETTO:+0100
TZNAME:CET
DTSTART:20251026T010000
END:STANDARD
BEGIN:DAYLIGHT
TZOFFSETFROM:+0100
TZOFFSETTO:+0200
TZNAME:CEST
DTSTART:20260329T010000
END:DAYLIGHT
BEGIN:STANDARD
TZOFFSETFROM:+0200
TZOFFSETTO:+0100
TZNAME:CET
DTSTART:20261025T010000
END:STANDARD
BEGIN:DAYLIGHT
TZOFFSETFROM:+0100
TZOFFSETTO:+0200
TZNAME:CEST
DTSTART:20270328T010000
END:DAYLIGHT
BEGIN:STANDARD
TZOFFSETFROM:+0200
TZOFFSETTO:+0100
TZNAME:CET
DTSTART:20271031T010000
END:STANDARD
END:VTIMEZONE
BEGIN:VEVENT
DTSTART;TZID=Europe/Paris:20260610T194500
DTEND;TZID=Europe/Paris:20260610T223000
DTSTAMP:20260421T062846
CREATED:20251203T234600Z
LAST-MODIFIED:20251209T203611Z
UID:3639-1781120700-1781130600@www.legoutduvin56.fr
SUMMARY:De Belles Bouteilles en dehors des sentiers battus
DESCRIPTION:Quand on pense Grand Vin on pense souvent Margaux\, Chateauneuf-du-Pape ou encore Meursault. En 5 vins\, on vous montrera qu’il existe de grands terroirs ou des vignerons talentueux dans tout le vignoble Français.
URL:https://www.legoutduvin56.fr/atelier-degustation/belles-bouteilles-de-degustation-en-dehors-des-sentiers-battus-2/
ATTACH;FMTTYPE=image/jpeg:https://www.legoutduvin56.fr/wp-content/uploads/2025/09/blanc-rouge-exception-scaled.jpeg
END:VEVENT
END:VCALENDAR