BEGIN:VCALENDAR
VERSION:2.0
PRODID:-//Le Goût du Vin - ECPv6.15.16//NONSGML v1.0//EN
CALSCALE:GREGORIAN
METHOD:PUBLISH
X-WR-CALNAME:Le Goût du Vin
X-ORIGINAL-URL:https://www.legoutduvin56.fr
X-WR-CALDESC:Évènements pour Le Goût du Vin
REFRESH-INTERVAL;VALUE=DURATION:PT1H
X-Robots-Tag:noindex
X-PUBLISHED-TTL:PT1H
BEGIN:VTIMEZONE
TZID:Europe/Paris
BEGIN:DAYLIGHT
TZOFFSETFROM:+0100
TZOFFSETTO:+0200
TZNAME:CEST
DTSTART:20240331T010000
END:DAYLIGHT
BEGIN:STANDARD
TZOFFSETFROM:+0200
TZOFFSETTO:+0100
TZNAME:CET
DTSTART:20241027T010000
END:STANDARD
BEGIN:DAYLIGHT
TZOFFSETFROM:+0100
TZOFFSETTO:+0200
TZNAME:CEST
DTSTART:20250330T010000
END:DAYLIGHT
BEGIN:STANDARD
TZOFFSETFROM:+0200
TZOFFSETTO:+0100
TZNAME:CET
DTSTART:20251026T010000
END:STANDARD
BEGIN:DAYLIGHT
TZOFFSETFROM:+0100
TZOFFSETTO:+0200
TZNAME:CEST
DTSTART:20260329T010000
END:DAYLIGHT
BEGIN:STANDARD
TZOFFSETFROM:+0200
TZOFFSETTO:+0100
TZNAME:CET
DTSTART:20261025T010000
END:STANDARD
END:VTIMEZONE
BEGIN:VEVENT
DTSTART;TZID=Europe/Paris:20251128T194500
DTEND;TZID=Europe/Paris:20251128T223000
DTSTAMP:20260423T202937
CREATED:20250909T102132Z
LAST-MODIFIED:20251121T161518Z
UID:1321-1764359100-1764369000@www.legoutduvin56.fr
SUMMARY:Bourgogne de A à Z
DESCRIPTION:Réputé pour ses vins à travers le monde\, la Bourgogne est une région large et complexe qui n’est pas tout le temps évidente à appréhender : des sous régions viticoles diverses\, hiérarchie des appellations bien définies\, délimitation des vins par parcelle\, … Une immersion dans ce vignoble permettra d’en découvrir toutes les subtilités.
URL:https://www.legoutduvin56.fr/atelier-degustation/bourgogne-de-a-a-z/
ATTACH;FMTTYPE=image/jpeg:https://www.legoutduvin56.fr/wp-content/uploads/2025/09/bourgogne-a-z-scaled.jpeg
END:VEVENT
END:VCALENDAR