BEGIN:VCALENDAR
VERSION:2.0
PRODID:-//Le Goût du Vin - ECPv6.15.16//NONSGML v1.0//EN
CALSCALE:GREGORIAN
METHOD:PUBLISH
X-WR-CALNAME:Le Goût du Vin
X-ORIGINAL-URL:https://www.legoutduvin56.fr
X-WR-CALDESC:Évènements pour Le Goût du Vin
REFRESH-INTERVAL;VALUE=DURATION:PT1H
X-Robots-Tag:noindex
X-PUBLISHED-TTL:PT1H
BEGIN:VTIMEZONE
TZID:Europe/Paris
BEGIN:DAYLIGHT
TZOFFSETFROM:+0100
TZOFFSETTO:+0200
TZNAME:CEST
DTSTART:20250330T010000
END:DAYLIGHT
BEGIN:STANDARD
TZOFFSETFROM:+0200
TZOFFSETTO:+0100
TZNAME:CET
DTSTART:20251026T010000
END:STANDARD
BEGIN:DAYLIGHT
TZOFFSETFROM:+0100
TZOFFSETTO:+0200
TZNAME:CEST
DTSTART:20260329T010000
END:DAYLIGHT
BEGIN:STANDARD
TZOFFSETFROM:+0200
TZOFFSETTO:+0100
TZNAME:CET
DTSTART:20261025T010000
END:STANDARD
BEGIN:DAYLIGHT
TZOFFSETFROM:+0100
TZOFFSETTO:+0200
TZNAME:CEST
DTSTART:20270328T010000
END:DAYLIGHT
BEGIN:STANDARD
TZOFFSETFROM:+0200
TZOFFSETTO:+0100
TZNAME:CET
DTSTART:20271031T010000
END:STANDARD
END:VTIMEZONE
BEGIN:VEVENT
DTSTART;TZID=Europe/Paris:20260505T194500
DTEND;TZID=Europe/Paris:20260505T223000
DTSTAMP:20260421T063744
CREATED:20251203T234321Z
LAST-MODIFIED:20251207T100815Z
UID:3624-1778010300-1778020200@www.legoutduvin56.fr
SUMMARY:Voir\, Sentir\, Toucher avec nos sens
DESCRIPTION:Etape par étape\, vous apprendrez à décrire et à analyser un vin sur le plan visuel\, olfactif et gustatif.
URL:https://www.legoutduvin56.fr/atelier-degustation/la-vallee-du-rhone-du-nord-au-sud/
LOCATION:Cave Le goût du vin\, Trehuinec\, Plescop\, 56890\, France
ATTACH;FMTTYPE=image/jpeg:https://www.legoutduvin56.fr/wp-content/uploads/2025/09/voir-sentir-le-vin-scaled.jpeg
END:VEVENT
END:VCALENDAR